BEGIN:VCALENDAR
VERSION:2.0
PRODID:-//The King&#039;s Army - ECPv6.15.20//NONSGML v1.0//EN
CALSCALE:GREGORIAN
METHOD:PUBLISH
X-WR-CALNAME:The King&#039;s Army
X-ORIGINAL-URL:https://thekingsarmy.com
X-WR-CALDESC:Events for The King&#039;s Army
REFRESH-INTERVAL;VALUE=DURATION:PT1H
X-Robots-Tag:noindex
X-PUBLISHED-TTL:PT1H
BEGIN:VTIMEZONE
TZID:America/Los_Angeles
BEGIN:DAYLIGHT
TZOFFSETFROM:-0800
TZOFFSETTO:-0700
TZNAME:PDT
DTSTART:20250309T100000
END:DAYLIGHT
BEGIN:STANDARD
TZOFFSETFROM:-0700
TZOFFSETTO:-0800
TZNAME:PST
DTSTART:20251102T090000
END:STANDARD
BEGIN:DAYLIGHT
TZOFFSETFROM:-0800
TZOFFSETTO:-0700
TZNAME:PDT
DTSTART:20260308T100000
END:DAYLIGHT
BEGIN:STANDARD
TZOFFSETFROM:-0700
TZOFFSETTO:-0800
TZNAME:PST
DTSTART:20261101T090000
END:STANDARD
BEGIN:DAYLIGHT
TZOFFSETFROM:-0800
TZOFFSETTO:-0700
TZNAME:PDT
DTSTART:20270314T100000
END:DAYLIGHT
BEGIN:STANDARD
TZOFFSETFROM:-0700
TZOFFSETTO:-0800
TZNAME:PST
DTSTART:20271107T090000
END:STANDARD
END:VTIMEZONE
BEGIN:VEVENT
DTSTART;VALUE=DATE:20260509
DTEND;VALUE=DATE:20260511
DTSTAMP:20260419T184820
CREATED:20260324T151125Z
LAST-MODIFIED:20260324T151151Z
UID:40774-1778284800-1778457599@thekingsarmy.com
SUMMARY:Evangelism Made Easy Weekend: West Sussex
DESCRIPTION:
URL:https://thekingsarmy.com/event/evangelism-made-easy-weekend-west-sussex/
LOCATION:Kingdom Faith Church\, Kingdom Faith Church\, Foundry Ln\, Horsham\, West Sussex\, RH13 5PX\, United Kingdom
CATEGORIES:Church
END:VEVENT
BEGIN:VEVENT
DTSTART;VALUE=DATE:20260603
DTEND;VALUE=DATE:20260607
DTSTAMP:20260419T184820
CREATED:20260416T010459Z
LAST-MODIFIED:20260416T010459Z
UID:40800-1780444800-1780790399@thekingsarmy.com
SUMMARY:King's Army Royal Academy
DESCRIPTION:Eastriver Fellowship Church\nJune 3-6 2026 \nRegister here
URL:https://thekingsarmy.com/event/kings-army-royal-academy/
LOCATION:East River Fellowship\, 4470 NW 185th Ave.\, Portland\, OR\, 97229\, United States
CATEGORIES:Training
END:VEVENT
BEGIN:VEVENT
DTSTART;VALUE=DATE:20260711
DTEND;VALUE=DATE:20260713
DTSTAMP:20260419T184820
CREATED:20260324T151442Z
LAST-MODIFIED:20260324T151442Z
UID:40778-1783728000-1783900799@thekingsarmy.com
SUMMARY:Deeper Life Conference\, Atlanta
DESCRIPTION:
URL:https://thekingsarmy.com/event/deeper-life-conference-atlanta/
LOCATION:OR
CATEGORIES:Conference
END:VEVENT
BEGIN:VEVENT
DTSTART;VALUE=DATE:20260726
DTEND;VALUE=DATE:20260727
DTSTAMP:20260419T184820
CREATED:20260324T151822Z
LAST-MODIFIED:20260324T151822Z
UID:40780-1785024000-1785110399@thekingsarmy.com
SUMMARY:Evangelism Made Easy Weekend: North Carolina
DESCRIPTION:
URL:https://thekingsarmy.com/event/evangelism-made-easy-weekend-north-carolina/
LOCATION:Church Alive\, 6109 NC-55\, Suite 122\, Fuquay-Varina\, NC\, 27526\, United States
CATEGORIES:Training
END:VEVENT
END:VCALENDAR